BEGIN:VCALENDAR
VERSION:2.0
PRODID:-//wp-events-plugin.com//7.2.3.1//EN
TZID:Europe/Berlin
X-WR-TIMEZONE:Europe/Berlin
BEGIN:VEVENT
UID:69@medienzentrum-trier.de
DTSTART;TZID=Europe/Berlin:20241119T140000
DTEND;TZID=Europe/Berlin:20241119T160000
DTSTAMP:20240920T150319Z
URL:https://medienzentrum-trier.de/Veranstaltungen/3d-druck/
SUMMARY:3D-Druck
DESCRIPTION:In unserer 3D-Druck-Fortbildung lernen Lehrkräfte\, wie sie mo
 derne Technologien in den Unterricht integrieren und ihren Schülern kreat
 ive und praxisorientierte Lernmöglichkeiten bieten können. Im Zentrum de
 r Fortbildung steht die Arbeit mit der Webanwendung Tinkertoys\, mit der S
 ie eigenständig 3D-Modelle entwerfen. Anschließend lernen Sie\, wie Sie 
 diese Modelle mithilfe der Slicingsoftware Bambulab nachbearbeiten und fü
 r den Druck vorbereiten. Der Workshop vermittelt Ihnen Schritt für Schrit
 t\, wie der gesamte Prozess vom Entwurf bis hin zum fertigen 3D-Druck abl
 äuft.\n\nZusätzlich erfahren Sie\, wie Sie Schüleraccounts erstellen un
 d verwalten\, um den Schülern den Zugang zur 3D-Modellierung und dem Druc
 kprozess zu ermöglichen. Der Workshop ist praxisorientiert und bietet Ihn
 en die Möglichkeit\, die Werkzeuge selbst auszuprobieren und mit den Druc
 kern zu arbeiten. So können Sie die vielfältigen Einsatzmöglichkeiten d
 es 3D-Drucks im Unterricht entdecken.\n\nDie Fortbildung richtet sich an L
 ehrkräfte\, die neue Wege in der Förderung technischer und kreativer Kom
 petenzen ihrer Schüler gehen möchten. Sie erhalten praktische Einblicke 
 in den 3D-Druck und lernen\, wie Sie diese Technologie sinnvoll in Ihren U
 nterricht integrieren können.\n\nDozent: Sven Bernhart
CATEGORIES:Fortbildungen
LOCATION:IGS-Trier: Raum C207\, Montessoriweg 4\, Trier\, 54296\, ÖPNV: "W
 olfsberg". Kostenlose Parkmöglichkeiten. Nach Anmeldung barrierefrei.\, D
 eutschland
X-APPLE-STRUCTURED-LOCATION;VALUE=URI;X-ADDRESS=Montessoriweg 4\, Trier\, 5
 4296\, ÖPNV: \"Wolfsberg\". Kostenlose Parkmöglichkeiten. Nach Anmeldung
  barrierefrei.\, Deutschland;X-APPLE-RADIUS=100;X-TITLE=IGS-Trier: Raum C2
 07:geo:0,0
END:VEVENT
BEGIN:VTIMEZONE
TZID:Europe/Berlin
X-LIC-LOCATION:Europe/Berlin
BEGIN:STANDARD
DTSTART:20241027T020000
TZOFFSETFROM:+0200
TZOFFSETTO:+0100
TZNAME:CET
END:STANDARD
END:VTIMEZONE
END:VCALENDAR