BEGIN:VCALENDAR
VERSION:2.0
PRODID:-//wp-events-plugin.com//7.2.3.1//EN
TZID:Europe/Berlin
X-WR-TIMEZONE:Europe/Berlin
BEGIN:VEVENT
UID:10@medienzentrum-trier.de
DTSTART;TZID=Europe/Berlin:20230328T140000
DTEND;TZID=Europe/Berlin:20230328T160000
DTSTAMP:20230302T074331Z
URL:https://medienzentrum-trier.de/Veranstaltungen/calliope-mini-einfuehru
 ng/
SUMMARY:Calliope mini (Einführung)
DESCRIPTION:Wie „denkt“ ein Computer? Wie erteile ich einem Mini-Robote
 r eine Aufgabe?\n\nDiese und viele andere Fragen lassen sich spannend\, un
 terhaltsam und praktisch beantworten im Einsatz mit dem Mini-Controller Ca
 lliope in Verbindung mit einem eigens dafür geschaffenen Programmierprogr
 amm.\n\nDer Calliope mini ist ein Einplatinencomputer\, der speziell für 
 den Einstieg in die Programmierung entwickelt wurde. Auf dem Calliope mini
  sind bereits einige Sensoren und Aktoren verbaut\, die die Schüler direk
 t in ihren Programmen verwenden können. Unter anderem lassen sich Beschle
 unigungen\, Temperatur und Helligkeit messen und auf einem kleinen Bildsch
 irm ausgeben. Per Bluetooth ist eine Kommunikation mit anderen Calliope mi
 nis oder Tablets möglich. Die Programmierung erfolgt ähnlich wie in Scra
 tch über eine intuitiv bedienbare\, browserbasierte Anwendung via Drag an
 d Drop. So müssen Schüler und Lehrer weder eine Software installieren\, 
 noch Vorkenntnisse in einer Programmiersprache mitbringen. Zusätzlich lä
 sst sich die Programmierung auch mittels App auf dem iPad erstellen.\n\nDe
 r Schwerpunkt der Veranstaltung liegt auf dem Einstieg in die Welt des Mak
 ing &amp\; Coding.\n\nIm Rahmen einer Veranstaltung werden die einzelnen B
 auelemente und Wirkungsweisen des Calliope kurz vorgestellt und einige did
 aktische Einstiegsideen in das Unterrichtsprojekt gegeben.\nIm Anschluss w
 erden erste Aufgabenstellungen für den Calliope mini über das Programmie
 rprogramm Roberta open Lab erprobt.\n\nBitte vermerken Sie Ihre Schule im 
 Kommentar zu Ihrer Anmeldung.
CATEGORIES:Fortbildungen
LOCATION:IGS-Trier: Raum C207\, Montessoriweg 4\, Trier\, 54296\, ÖPNV: "W
 olfsberg". Kostenlose Parkmöglichkeiten. Nach Anmeldung barrierefrei.\, D
 eutschland
X-APPLE-STRUCTURED-LOCATION;VALUE=URI;X-ADDRESS=Montessoriweg 4\, Trier\, 5
 4296\, ÖPNV: \"Wolfsberg\". Kostenlose Parkmöglichkeiten. Nach Anmeldung
  barrierefrei.\, Deutschland;X-APPLE-RADIUS=100;X-TITLE=IGS-Trier: Raum C2
 07:geo:0,0
END:VEVENT
BEGIN:VTIMEZONE
TZID:Europe/Berlin
X-LIC-LOCATION:Europe/Berlin
BEGIN:DAYLIGHT
DTSTART:20230326T030000
TZOFFSETFROM:+0100
TZOFFSETTO:+0200
TZNAME:CEST
END:DAYLIGHT
END:VTIMEZONE
END:VCALENDAR