BEGIN:VCALENDAR
VERSION:2.0
PRODID:-//wp-events-plugin.com//7.2.3.1//EN
TZID:Europe/Berlin
X-WR-TIMEZONE:Europe/Berlin
BEGIN:VEVENT
UID:67@medienzentrum-trier.de
DTSTART;TZID=Europe/Berlin:20241029T140000
DTEND;TZID=Europe/Berlin:20241029T160000
DTSTAMP:20240712T063816Z
URL:https://medienzentrum-trier.de/Veranstaltungen/coding-robotics-mit-cal
 iope-2/
SUMMARY:Coding & Robotics mit Caliope
DESCRIPTION:Wie „denkt“ ein Computer? Wie erteile ich einem Mini-Robote
 r eine Aufgabe?\n\nDiese und viele andere Fragen lassen sich spannend\, un
 terhaltsam und praktisch beantworten im Einsatz mit dem Mini-Controller Ca
 lliope in Verbindung mit einem eigens dafür geschaffenen Programmierprogr
 amm.\n\nDer Calliope mini ist ein Einplatinencomputer\, der speziell für 
 den Einstieg in die Programmierung entwickelt wurde. Auf dem Calliope mini
  sind bereits einige Sensoren und Aktoren verbaut\, die die Schüler direk
 t in ihren Programmen verwenden können. Unter anderem lassen sich Beschle
 unigungen\, Temperatur und Helligkeit messen und auf einem kleinen Bildsch
 irm ausgeben. Per Bluetooth ist eine Kommunikation mit anderen Calliope mi
 nis oder Tablets möglich. Die Programmierung erfolgt ähnlich wie in Scra
 tch über eine intuitiv bedienbare\, browserbasierte Anwendung via Drag an
 d Drop. So müssen Schüler und Lehrer weder eine Software installieren\, 
 noch Vorkenntnisse in einer Programmiersprache mitbringen. Zusätzlich lä
 sst sich die Programmierung auch mittels App auf dem iPad erstellen.\n\nDe
 r Schwerpunkt der Veranstaltung liegt auf dem Einstieg in die Welt des Mak
 ing &amp\; Coding.\n\nIm Rahmen einer Veranstaltung werden die einzelnen B
 auelemente und Wirkungsweisen des Calliope kurz vorgestellt und einige did
 aktische Einstiegsideen in das Unterrichtsprojekt gegeben.\nIm Anschluss w
 erden erste Aufgabenstellungen für den Calliope mini über das Programmie
 rprogramm Roberta open Lab erprobt.\n\nDozent: Sven Bernhart (Kontakt)
CATEGORIES:Fortbildungen
LOCATION:Medienzentrum Trier\, Hawstrasse 2a\, Trier\, 54290\, Deutschland
X-APPLE-STRUCTURED-LOCATION;VALUE=URI;X-ADDRESS=Hawstrasse 2a\, Trier\, 542
 90\, Deutschland;X-APPLE-RADIUS=100;X-TITLE=Medienzentrum Trier:geo:0,0
END:VEVENT
BEGIN:VTIMEZONE
TZID:Europe/Berlin
X-LIC-LOCATION:Europe/Berlin
BEGIN:STANDARD
DTSTART:20241027T020000
TZOFFSETFROM:+0200
TZOFFSETTO:+0100
TZNAME:CET
END:STANDARD
END:VTIMEZONE
END:VCALENDAR