BEGIN:VCALENDAR
VERSION:2.0
PRODID:-//wp-events-plugin.com//7.2.3.1//EN
TZID:Europe/Berlin
X-WR-TIMEZONE:Europe/Berlin
BEGIN:VEVENT
UID:68@medienzentrum-trier.de
DTSTART;TZID=Europe/Berlin:20241114T140000
DTEND;TZID=Europe/Berlin:20241114T160000
DTSTAMP:20241001T082923Z
URL:https://medienzentrum-trier.de/Veranstaltungen/coding-robotics-mit-cal
 iope-vertiefung/
SUMMARY:Calliope mini Vertiefung
DESCRIPTION:\n\nDer Vertiefungskurs zum Calliope mini richtet sich an Lehrk
 räfte\, die ihre Grundlagenkenntnisse weiter ausbauen und die fortgeschri
 ttenen Möglichkeiten des Mini-Controllers erkunden möchten. Aufbauend au
 f den Inhalten des ersten Kurses widmet sich dieser Workshop der Vertiefun
 g im Bereich Making &amp\; Coding.\n\nWährend der Veranstaltung lernen Si
 e\, wie Sie komplexere Programmierprojekte mit dem Calliope mini umsetzen 
 und anspruchsvollere Aufgaben für Ihre Schüler gestalten. Neben der Einf
 ührung in erweiterte Funktionen\, wie die Verwendung zusätzlicher Sensor
 en und die Kommunikation zwischen mehreren Geräten per Bluetooth\, liegt 
 der Schwerpunkt auf der Integration fächerübergreifender Projekte\, die 
 die Kreativität und das logische Denken der Schüler fördern.\n\nDie Tei
 lnehmer erproben in praxisnahen Übungen\, wie sie differenzierte Aufgaben
 stellungen mit dem Programmierprogramm Roberta open Lab umsetzen und den U
 nterricht durch fesselnde Projekte bereichern können. Sie erhalten zudem 
 Einblicke in die didaktische Gestaltung und den Einsatz des Calliope mini 
 in fortgeschrittenen Unterrichtseinheiten.\n\nDieser Kurs eignet sich für
  Lehrkräfte\, die bereits den Einstieg in die Programmierung mit dem Call
 iope mini gemeistert haben und nun die tiefergehenden Möglichkeiten entde
 cken möchten.\n\nDozent: Sven Bernhart (Kontakt)
CATEGORIES:Fortbildungen
LOCATION:Medienzentrum Trier\, Hawstrasse 2a\, Trier\, 54290\, Deutschland
X-APPLE-STRUCTURED-LOCATION;VALUE=URI;X-ADDRESS=Hawstrasse 2a\, Trier\, 542
 90\, Deutschland;X-APPLE-RADIUS=100;X-TITLE=Medienzentrum Trier:geo:0,0
END:VEVENT
BEGIN:VTIMEZONE
TZID:Europe/Berlin
X-LIC-LOCATION:Europe/Berlin
BEGIN:STANDARD
DTSTART:20241027T020000
TZOFFSETFROM:+0200
TZOFFSETTO:+0100
TZNAME:CET
END:STANDARD
END:VTIMEZONE
END:VCALENDAR