BEGIN:VCALENDAR
VERSION:2.0
PRODID:-//wp-events-plugin.com//7.2.3.1//EN
TZID:Europe/Berlin
X-WR-TIMEZONE:Europe/Berlin
BEGIN:VEVENT
UID:64@medienzentrum-trier.de
DTSTART;TZID=Europe/Berlin:20241010T090000
DTEND;TZID=Europe/Berlin:20241010T170000
DTSTAMP:20240712T064256Z
URL:https://medienzentrum-trier.de/Veranstaltungen/koordinations-treffen-b
 ildung-fuer-grundschulen-in-der-stadt-trier/
SUMMARY:Koordinations-treffen Bildung für Grundschulen in der Stadt Trier
DESCRIPTION:Das Medienzentrum-Trier lädt im Auftrag des Digitalen Kompeten
 zzentrums alle Koordinatorinnen und Koordinatoren Bildung in der digitalen
  Welt regelmäßig zum Koordinationstreffen für Grundschulen ein.\nBitte 
 melden Sie sich bis zum 03. Oktober unter folgendem Link an:\nhttps://fort
 bildung-online.bildung-rp.de/veranstaltungskatalog_detail?id=74050&amp\;m=
 dbca5ecc-a3b5-11e9-8e0c-0050569784c7&amp\;r=8092\n\nUnter dem Link finden 
 Sie ebenfalls Informationen zum Inhalt der Veranstaltungen.
CATEGORIES:Konferenzen
LOCATION:Medienzentrum Trier\, Hawstrasse 2a\, Trier\, 54290\, Deutschland
X-APPLE-STRUCTURED-LOCATION;VALUE=URI;X-ADDRESS=Hawstrasse 2a\, Trier\, 542
 90\, Deutschland;X-APPLE-RADIUS=100;X-TITLE=Medienzentrum Trier:geo:0,0
END:VEVENT
BEGIN:VTIMEZONE
TZID:Europe/Berlin
X-LIC-LOCATION:Europe/Berlin
BEGIN:DAYLIGHT
DTSTART:20240331T030000
TZOFFSETFROM:+0100
TZOFFSETTO:+0200
TZNAME:CEST
END:DAYLIGHT
END:VTIMEZONE
END:VCALENDAR