BEGIN:VCALENDAR
VERSION:2.0
PRODID:-//wp-events-plugin.com//7.2.3.1//EN
TZID:Europe/Berlin
X-WR-TIMEZONE:Europe/Berlin
BEGIN:VEVENT
UID:109@medienzentrum-trier.de
DTSTART;TZID=Europe/Berlin:20250602T140000
DTEND;TZID=Europe/Berlin:20250602T170000
DTSTAMP:20250403T090006Z
URL:https://medienzentrum-trier.de/Veranstaltungen/mediensichtung-weiterfu
 ehrende-schulen/
SUMMARY:Mediensichtung weiterführende Schulen
DESCRIPTION:Medienkompetenz am Montag/ Reihe: Digitale Medien/ Modul: Medie
 nsichtung weiterführende Schulen\nDas Medienzentrum verfügt über große
  Altbestände hochwertiger didaktischer Medien (DVD-Sets) für verschieden
 e Schulfächer und schulische Themen (BNE\, Verkehrserziehung\, BO\, Demok
 ratiebildung etc.). Diese werden nicht mehr über einen permanent besetzte
 n Verleih distribuiert\, sondern können als Dauerleihgaben an die Schulen
  im Einzugsbereich des Medienzentrums abgegeben werden.\n\nDer Termin zur 
 Sichtung der Medien für weiterführende Schulen richtet sich an Kolleginn
 en und Kollegen dieser Schulformen\, die an ihren Schulen noch die Möglic
 hkeit haben\, DVDs abzuspielen (DVD-Player oder Computer-Laufwerk). Sehr w
 illkommen sind  Fachchkonferenzleitungen\, die so ihre Fachschaftsammlung
  ausbauen können.\n\nDie Medien können direkt im Medienzentrum gesichtet
  werden\, bei Interesse können sofort Dauerleih-Vereinbarungen abgeschlos
 sen und die Medien mitgenommen werden.\n\n&nbsp\;
CATEGORIES:Fortbildungen
LOCATION:Medienzentrum Trier\, Hawstrasse 2a\, Trier\, 54290\, Deutschland
X-APPLE-STRUCTURED-LOCATION;VALUE=URI;X-ADDRESS=Hawstrasse 2a\, Trier\, 542
 90\, Deutschland;X-APPLE-RADIUS=100;X-TITLE=Medienzentrum Trier:geo:0,0
END:VEVENT
BEGIN:VTIMEZONE
TZID:Europe/Berlin
X-LIC-LOCATION:Europe/Berlin
BEGIN:DAYLIGHT
DTSTART:20250330T030000
TZOFFSETFROM:+0100
TZOFFSETTO:+0200
TZNAME:CEST
END:DAYLIGHT
END:VTIMEZONE
END:VCALENDAR