BEGIN:VCALENDAR
VERSION:2.0
PRODID:-//wp-events-plugin.com//7.2.3.1//EN
TZID:Europe/Berlin
X-WR-TIMEZONE:Europe/Berlin
BEGIN:VEVENT
UID:66@medienzentrum-trier.de
DTSTART;TZID=Europe/Berlin:20241001T140000
DTEND;TZID=Europe/Berlin:20241001T160000
DTSTAMP:20240920T150035Z
URL:https://medienzentrum-trier.de/Veranstaltungen/schoolwork/
SUMMARY:Schoolwork
DESCRIPTION:In unserer Fortbildung zur App Schoolwork zeigen wir Lehrkräft
 en\, wie sie die Möglichkeiten der digitalen Bildung voll ausschöpfen k
 önnen. Die App Schoolwork bietet eine intuitive und praxisnahe Lösung\, 
 um den Unterricht gezielt zu unterstützen. Dabei liegt der Fokus auf dem 
 effizienten Verteilen und Einsammeln von Aufgaben und Tests. Lehrkräfte e
 rfahren Schritt für Schritt\, wie sie die App in ihren Unterrichtsalltag 
 integrieren können\, um Arbeitsabläufe zu optimieren und mehr Zeit für 
 die individuelle Förderung der Schüler zu gewinnen.\n\nNach einer kurzen
  Erklärphase haben Sie die Möglichkeit\, die Arbeit mit der App selbst a
 uszuprobieren und die vielfältigen Einsatzmöglichkeiten praxisnah zu erk
 unden. So können Sie direkt die Funktionen testen\, die Sie im Unterricht
  am meisten unterstützen.\n\nIm Rahmen des Workshops wird auch kurz auf d
 ie wichtigsten technischen und administrativen Voraussetzungen eingegangen
 \, damit die Nutzung der App problemlos in Ihrer Schule implementiert werd
 en kann.\n\nDer Workshop richtet sich vorrangig an erfahrenere Lehrkräfte
 \, die bereits mit der grundlegenden Bedienung des iPads vertraut sind und
  über Grundkenntnisse im Umgang mit den iWork Apps Pages &amp\; Keynote v
 erfügen. Mit diesen Vorkenntnissen wird Ihnen die Nutzung von Schoolwork 
 schnell vertraut und einfach fallen\, sodass Sie die App direkt in Ihren U
 nterricht integrieren könne
CATEGORIES:Fortbildungen
LOCATION:Medienzentrum Trier\, Hawstrasse 2a\, Trier\, 54290\, Deutschland
X-APPLE-STRUCTURED-LOCATION;VALUE=URI;X-ADDRESS=Hawstrasse 2a\, Trier\, 542
 90\, Deutschland;X-APPLE-RADIUS=100;X-TITLE=Medienzentrum Trier:geo:0,0
END:VEVENT
BEGIN:VTIMEZONE
TZID:Europe/Berlin
X-LIC-LOCATION:Europe/Berlin
BEGIN:DAYLIGHT
DTSTART:20240331T030000
TZOFFSETFROM:+0100
TZOFFSETTO:+0200
TZNAME:CEST
END:DAYLIGHT
END:VTIMEZONE
END:VCALENDAR