BEGIN:VCALENDAR
VERSION:2.0
PRODID:-//wp-events-plugin.com//7.2.3.1//EN
TZID:Europe/Berlin
X-WR-TIMEZONE:Europe/Berlin
BEGIN:VEVENT
UID:60@medienzentrum-trier.de
DTSTART;TZID=Europe/Berlin:20241113T083000
DTEND;TZID=Europe/Berlin:20241113T120000
DTSTAMP:20240711T103349Z
URL:https://medienzentrum-trier.de/Veranstaltungen/schulcampus-einstieg/
SUMMARY:Schulcampus (Einstieg)
DESCRIPTION:Einstieg in das Arbeiten mit dem Schulcampus\n\nDie Veranstaltu
 ng richtet sich an Lehrkräfte von Schulcampus Schulen\, die einen Zugang 
 über ihre Schule erhalten haben und in das Arbeiten mit dem Schulcampus e
 insteigen möchten.\n\nIm Rahmen dieser Präsenzveranstaltung erhalten Sie
  einen allgemeinen Einstieg in den Schulcampus. Sie lernen zudem einzelne 
 Werkzeuge und Komponenten des Schulcampus kennen.\n\nDie ist eine Veransta
 ltung vom Schulcampus-Team in Kooperation mit Medienzentren aus der Region
 .\n\nBitte beachten:\nDiese halbtägige Veranstaltung berücksichtigt nich
 t die Lernplattform Moodle\, die ebenfalls im Schulcampus enthalten ist.\n
 \nInhalte:\n- Kurzer Überblick über den Schulcampus und seine Komponente
 n\n- Umgang mit Sammlungen und der Mediathek\n- Eigene Dateien und Only-Of
 fice-Anwendung\n- Dateien mit Gruppen teilen\n- ...\n\nVoraussetzung:\n- E
 -Learning Basiskenntnisse und Erfahrungen\n- Interesse an interaktiver Unt
 errichtsgestaltung\n- Interesse an Netzwerk und Austausch\n- Lehrkraft an 
 einer Schulcampus-Schule mit eigenem Zugang\nHinweis: Für dieses Angebot 
 ist die Anmeldung im Portal erforderlich.\n\nZiele:\n- Fortbildungs- und B
 eratungsangebot für alle rheinland-pfälzischen Schulen\n- Unterstützung
  im Rahmen der digitalen Bildung\n- Netzwerk und Austausch von Ideen mit a
 nderen Lehrkräften\n- Nutzung von digitalen Werkzeugen und Herangehenswei
 sen im eigenen Unterricht\n\nBitte melden Sie sich unter folgendem Link an
 :\nhttps://evewa.bildung-rp.de/veranstaltungskatalog_detail?id=69892&amp\;
 m=dbca5ecc-a3b5-11e9-8e0c-0050569784c7&amp\;r=8092
CATEGORIES:Fortbildungen
LOCATION:Medienzentrum Trier\, Hawstrasse 2a\, Trier\, 54290\, Deutschland
X-APPLE-STRUCTURED-LOCATION;VALUE=URI;X-ADDRESS=Hawstrasse 2a\, Trier\, 542
 90\, Deutschland;X-APPLE-RADIUS=100;X-TITLE=Medienzentrum Trier:geo:0,0
END:VEVENT
BEGIN:VTIMEZONE
TZID:Europe/Berlin
X-LIC-LOCATION:Europe/Berlin
BEGIN:STANDARD
DTSTART:20241027T020000
TZOFFSETFROM:+0200
TZOFFSETTO:+0100
TZNAME:CET
END:STANDARD
END:VTIMEZONE
END:VCALENDAR