BEGIN:VCALENDAR
VERSION:2.0
PRODID:-//wp-events-plugin.com//7.2.3.1//EN
TZID:Europe/Berlin
X-WR-TIMEZONE:Europe/Berlin
BEGIN:VEVENT
UID:62@medienzentrum-trier.de
DTSTART;TZID=Europe/Berlin:20240924T140000
DTEND;TZID=Europe/Berlin:20240924T160000
DTSTAMP:20240918T150020Z
URL:https://medienzentrum-trier.de/Veranstaltungen/schulische-tablet-konze
 pte-vertiefung/
SUMMARY:Schulische Tablet - Konzepte (Vertiefung)
DESCRIPTION:[gallery size="medium" ids="1395\,1396"]\n\nIn dieser Fortbildu
 ng thematisieren wir das Einrichten und Verwalten von Lerngruppen mit iPad
 s als Kofferlösung oder 1:1 Ausstattung (iPadklassen) im MDM-Relution. Di
 e Fortbildung setzt die Teilnahme an der Veranstaltung Schulische Tablet-K
 onzepte (Grundlagen) voraus.\n\nFür Lehrkräfte\, die an Ihrer Schule an
  Ihrer Schule die pädagogische Nutzung von mobilen Endgeräten koordinier
 en.\n\nBitte vermerken Sie Ihre Schule im Kommentar zu Ihrer Anmeldung.\n\
 nDozent: Dennis Feser oder Sven Bernhart (Kontakt)
CATEGORIES:Fortbildungen
LOCATION:Medienzentrum Trier\, Hawstrasse 2a\, Trier\, 54290\, Deutschland
X-APPLE-STRUCTURED-LOCATION;VALUE=URI;X-ADDRESS=Hawstrasse 2a\, Trier\, 542
 90\, Deutschland;X-APPLE-RADIUS=100;X-TITLE=Medienzentrum Trier:geo:0,0
END:VEVENT
BEGIN:VTIMEZONE
TZID:Europe/Berlin
X-LIC-LOCATION:Europe/Berlin
BEGIN:DAYLIGHT
DTSTART:20240331T030000
TZOFFSETFROM:+0100
TZOFFSETTO:+0200
TZNAME:CEST
END:DAYLIGHT
END:VTIMEZONE
END:VCALENDAR