BEGIN:VCALENDAR
VERSION:2.0
PRODID:-//wp-events-plugin.com//7.2.3.1//EN
TZID:Europe/Berlin
X-WR-TIMEZONE:Europe/Berlin
BEGIN:VEVENT
UID:52@medienzentrum-trier.de
DTSTART;TZID=Europe/Berlin:20241009T140000
DTEND;TZID=Europe/Berlin:20241009T163000
DTSTAMP:20241005T072138Z
URL:https://medienzentrum-trier.de/Veranstaltungen/tablet-grundlagen-fuer-
 lehrkraefte/
SUMMARY:Tablet Grundlagen für Lehrkräfte
DESCRIPTION:In diesem kompakten Workshop lernen Sie am Beispiel des iPads d
 en grundlegenden Umgang mit Tablets kennen. Dabei konzentrieren wir uns au
 f die Funktionen\, die Sie als Lehrkraft beherrschen müssen um das Gerät
  im Unterricht und zur Unterrichtsplanung zu nutzen.\nDies umfasst die fol
 genden Inhalte:\n\n 	Personalisierung des Geräts (Einstellungen)\n 	Datei
 verwaltung\n 	Verwendung von AirDrop\n 	Aufnehmen und Verwalten von Fotos\
 n 	Verwendung des Webbrowsers Safari\n 	Erstellen von Textdokumenten mit P
 ages (ausschließlich Grundlagen)\n 	Erstellen von Präsentationen mit Key
 note (ausschließlich Grundlagen)\n\nKeine Themen in der Fortbildung sind 
 die Einrichtung persönlicher Emailkonten oder Cloud-Services.\n\nBitte st
 ellen Sie unmittelbar vor der Veranstaltung sicher\, dass auf Ihrem Gerät
  die aktuellste Version des Betriebssystems (iOS) installiert ist und brin
 gen Sie das Gerät (sowie eventuelle Zubehör wie Stifte) vollständig gel
 aden zu der Veranstaltung mit.\n\nDozent: Fabian Jungblut (KONTAKT)\n\n&nb
 sp\;
CATEGORIES:Fortbildungen
LOCATION:Medienzentrum Trier\, Hawstrasse 2a\, Trier\, 54290\, Deutschland
X-APPLE-STRUCTURED-LOCATION;VALUE=URI;X-ADDRESS=Hawstrasse 2a\, Trier\, 542
 90\, Deutschland;X-APPLE-RADIUS=100;X-TITLE=Medienzentrum Trier:geo:0,0
END:VEVENT
BEGIN:VTIMEZONE
TZID:Europe/Berlin
X-LIC-LOCATION:Europe/Berlin
BEGIN:DAYLIGHT
DTSTART:20240331T030000
TZOFFSETFROM:+0100
TZOFFSETTO:+0200
TZNAME:CEST
END:DAYLIGHT
END:VTIMEZONE
END:VCALENDAR