BEGIN:VCALENDAR
VERSION:2.0
PRODID:-//wp-events-plugin.com//7.2.3.1//EN
TZID:Europe/Berlin
X-WR-TIMEZONE:Europe/Berlin
BEGIN:VEVENT
UID:61@medienzentrum-trier.de
DTSTART;TZID=Europe/Berlin:20240918T140000
DTEND;TZID=Europe/Berlin:20240918T160000
DTSTAMP:20240712T071628Z
URL:https://medienzentrum-trier.de/Veranstaltungen/taskcards-fuer-lehrkrae
 fte-4/
SUMMARY:Taskcards für Lehrkräfte
DESCRIPTION:In dem Workshop führen wir durch die grundlegenden Einstellung
 en von Taskcards: Layout der Pinnwand\, Einstellungen der Posts\, Gestaltu
 ng der Pinnwand\, Sicherheitseinstellungen sowie Steuerung und Differenzie
 rung des Zugriffs werden thematisiert und didaktisch reflektiert.\n\nÜber
 legen Sie sich ein Unterrichtsthema\, für das eine Online-Pinnwand geeign
 et sein könnte und bringen Sie Texte\, Bilder und Links sowie ein Endger
 ät mit.\n\nBitte vermerken Sie Ihre Schule im Kommentar zu Ihrer Anmeldun
 g.\n\nDozent: Dennis Feser (Kontakt)
CATEGORIES:Fortbildungen
LOCATION:Medienzentrum Trier\, Hawstrasse 2a\, Trier\, 54290\, Deutschland
X-APPLE-STRUCTURED-LOCATION;VALUE=URI;X-ADDRESS=Hawstrasse 2a\, Trier\, 542
 90\, Deutschland;X-APPLE-RADIUS=100;X-TITLE=Medienzentrum Trier:geo:0,0
END:VEVENT
BEGIN:VTIMEZONE
TZID:Europe/Berlin
X-LIC-LOCATION:Europe/Berlin
BEGIN:DAYLIGHT
DTSTART:20240331T030000
TZOFFSETFROM:+0100
TZOFFSETTO:+0200
TZNAME:CEST
END:DAYLIGHT
END:VTIMEZONE
END:VCALENDAR