BEGIN:VCALENDAR
VERSION:2.0
PRODID:-//wp-events-plugin.com//7.2.3.1//EN
TZID:Europe/Berlin
X-WR-TIMEZONE:Europe/Berlin
BEGIN:VEVENT
UID:103@medienzentrum-trier.de
DTSTART;TZID=Europe/Berlin:20250618T090000
DTEND;TZID=Europe/Berlin:20250618T163000
DTSTAMP:20250403T112942Z
URL:https://medienzentrum-trier.de/Veranstaltungen/thementag-immersive-med
 ien-in-der-schule/
SUMMARY:Thementag: Immersive Medien in der Schule
DESCRIPTION:Bitte über Vewa anmelden VA-Nummer 25D3220001.
CATEGORIES:Fortbildungen,Studientage,Workshop
LOCATION:Medienzentrum Trier\, Hawstrasse 2a\, Trier\, 54290\, Deutschland
X-APPLE-STRUCTURED-LOCATION;VALUE=URI;X-ADDRESS=Hawstrasse 2a\, Trier\, 542
 90\, Deutschland;X-APPLE-RADIUS=100;X-TITLE=Medienzentrum Trier:geo:0,0
END:VEVENT
BEGIN:VTIMEZONE
TZID:Europe/Berlin
X-LIC-LOCATION:Europe/Berlin
BEGIN:DAYLIGHT
DTSTART:20250330T030000
TZOFFSETFROM:+0100
TZOFFSETTO:+0200
TZNAME:CEST
END:DAYLIGHT
END:VTIMEZONE
END:VCALENDAR