BEGIN:VCALENDAR
VERSION:2.0
PRODID:-//wp-events-plugin.com//7.2.3.1//EN
TZID:Europe/Berlin
X-WR-TIMEZONE:Europe/Berlin
BEGIN:VEVENT
UID:107@medienzentrum-trier.de
DTSTART;TZID=Europe/Berlin:20250825T140000
DTEND;TZID=Europe/Berlin:20250825T170000
DTSTAMP:20250324T142758Z
URL:https://medienzentrum-trier.de/Veranstaltungen/vr-fuehrerschein-fuer-m
 eta-quest-2/
SUMMARY:VR-Führerschein für Meta-Quest
DESCRIPTION:Medienkompetenz am Montag/ Reihe: immersive Medien/ Modul VR-F
 ührerschein\nIm Medienzentrum können VR-Headsets (Meta-Quest 3) ausgelie
 hen werden. Vor dem Verleih erfolgt eine Einführung\, die wichtige Punkte
  der Bedienung und des sicheren Einsatzes der Brillen abdeckt. Weiterhin w
 erden didaktische Einsatzszenarien vorgestellt. Es besteht die Möglichkei
 t\, für das eigene Fach oder Projekt passende immersive Inhalte zu sichte
 n.
CATEGORIES:Fortbildungen,Workshop
LOCATION:Medienzentrum Trier\, Hawstrasse 2a\, Trier\, 54290\, Deutschland
X-APPLE-STRUCTURED-LOCATION;VALUE=URI;X-ADDRESS=Hawstrasse 2a\, Trier\, 542
 90\, Deutschland;X-APPLE-RADIUS=100;X-TITLE=Medienzentrum Trier:geo:0,0
END:VEVENT
BEGIN:VTIMEZONE
TZID:Europe/Berlin
X-LIC-LOCATION:Europe/Berlin
BEGIN:DAYLIGHT
DTSTART:20250330T030000
TZOFFSETFROM:+0100
TZOFFSETTO:+0200
TZNAME:CEST
END:DAYLIGHT
END:VTIMEZONE
END:VCALENDAR