BEGIN:VCALENDAR
VERSION:2.0
PRODID:-//wp-events-plugin.com//7.2.3.1//EN
TZID:Europe/Berlin
X-WR-TIMEZONE:Europe/Berlin
BEGIN:VEVENT
UID:108@medienzentrum-trier.de
DTSTART;TZID=Europe/Berlin:20251124T140000
DTEND;TZID=Europe/Berlin:20251124T170000
DTSTAMP:20250922T100533Z
URL:https://medienzentrum-trier.de/Veranstaltungen/vr-fuehrerschein-fuer-m
 eta-quest/
SUMMARY:Medienkompetenz am Montag: VR-Führerschein für Meta-Quest
DESCRIPTION:Medienkompetenz am Montag/ Reihe: immersive Medien/ Modul VR-F
 ührerschein\nIm Medienzentrum können VR-Headsets (Meta-Quest 3) ausgelie
 hen werden. Vor dem Verleih erfolgt eine Einführung\, die wichtige Punkte
  der Bedienung und des sicheren Einsatzes der Brillen abdeckt. Weiterhin w
 erden didaktische Einsatzszenarien vorgestellt. Es besteht die Möglichkei
 t\, für das eigene Fach oder Projekt passende immersive Inhalte zu sichte
 n.
CATEGORIES:Fortbildungen,Workshop
LOCATION:Medienzentrum Trier\, Hawstrasse 2a\, Trier\, 54290\, Deutschland
X-APPLE-STRUCTURED-LOCATION;VALUE=URI;X-ADDRESS=Hawstrasse 2a\, Trier\, 542
 90\, Deutschland;X-APPLE-RADIUS=100;X-TITLE=Medienzentrum Trier:geo:0,0
END:VEVENT
BEGIN:VTIMEZONE
TZID:Europe/Berlin
X-LIC-LOCATION:Europe/Berlin
BEGIN:STANDARD
DTSTART:20251026T020000
TZOFFSETFROM:+0200
TZOFFSETTO:+0100
TZNAME:CET
END:STANDARD
END:VTIMEZONE
END:VCALENDAR