BEGIN:VCALENDAR
VERSION:2.0
PRODID:-//wp-events-plugin.com//7.2.3.1//EN
TZID:Europe/Berlin
X-WR-TIMEZONE:Europe/Berlin
BEGIN:VEVENT
UID:20@medienzentrum-trier.de
DTSTART;TZID=Europe/Berlin:20250409T133000
DTEND;TZID=Europe/Berlin:20250409T160000
DTSTAMP:20250312T161200Z
URL:https://medienzentrum-trier.de/Veranstaltungen/workshop-fremdsprachenu
 nterricht-und-kuenstliche-intelligenz/
SUMMARY:Workshop: Fremdsprachenunterricht und Künstliche Intelligenz
DESCRIPTION:Nach einer kurzen theoretischen Einführung ins Thema "Künstli
 che Intelligenz" liegt der Fokus des Workshops auf konkreten Szenarien zum
  Einsatz künstlicher Intelligenz im Fremdsprachenunterricht. Dabei werden
  sowohl die Perspektive der Unterrichtenden als auch der Lernenden betrach
 tet.\n\nEs erwarten Sie folgende Inhalte:\n\n 	Crashkurs "Prompting Grundl
 agen"\n 	Notwendigkeit einer neuen (Haus-)Aufgaben- und Prüfungskultur\n 
 	Best-Practice Beispiele\n 	gemeinsame Erarbeitung von konkreten Einsatzsz
 enarien\n\nWICHTIGE INFORMATIONEN ZUR TEILNAHME:\n\n 	Bitte machen Sie sic
 h vor der Veranstaltung mit diesen Informationen betraut: Künstliche Inte
 lligenz und die rechtlichen Herausforderungen in der Schule\n 	Sie sollten
  über einen fobizz Zugang verfügen.\n 	Bitte bringen Sie ein geeignetes 
 digitales Endgerät für die Arbeitsphase mit. Wir können nur begrenzt Ge
 räte zur Verfügung stellen.\n 	Gerne können Sie auch Unterrichtsmateria
 l wie Lehrwerke\, Lektüren\, Übungsbücher\, etc. mitbringen.\n\nDozent:
  Fabian Jungblut (KONTAKT)
CATEGORIES:Fortbildungen,Workshop
LOCATION:Medienzentrum Trier\, Hawstrasse 2a\, Trier\, 54290\, Deutschland
X-APPLE-STRUCTURED-LOCATION;VALUE=URI;X-ADDRESS=Hawstrasse 2a\, Trier\, 542
 90\, Deutschland;X-APPLE-RADIUS=100;X-TITLE=Medienzentrum Trier:geo:0,0
END:VEVENT
BEGIN:VTIMEZONE
TZID:Europe/Berlin
X-LIC-LOCATION:Europe/Berlin
BEGIN:DAYLIGHT
DTSTART:20250330T030000
TZOFFSETFROM:+0100
TZOFFSETTO:+0200
TZNAME:CEST
END:DAYLIGHT
END:VTIMEZONE
END:VCALENDAR