BEGIN:VCALENDAR
VERSION:2.0
PRODID:-//wp-events-plugin.com//7.2.3.1//EN
TZID:Europe/Berlin
X-WR-TIMEZONE:Europe/Berlin
BEGIN:VEVENT
UID:113@medienzentrum-trier.de
DTSTART;TZID=Europe/Berlin:20250514T140000
DTEND;TZID=Europe/Berlin:20250514T160000
DTSTAMP:20250408T155938Z
URL:https://medienzentrum-trier.de/Veranstaltungen/workshop-podcast-projek
 te-mit-dem-ipad/
SUMMARY:Workshop: Podcast-Projekte mit dem iPad
DESCRIPTION:In diesem praxisorientieren Workshop entdecken Sie die spannend
 e Welt der Podcast-Produktion!\nDieser Kurs richtet sich an Lehrkräfte al
 ler Schulformen\, die lernen möchten\, wie sich  mit iPads und der koste
 nlosen App GarageBand ansprechende Podcast-Projekte planen und umsetzen la
 ssen.\n\nIm Verlauf des Workshops erfahren Sie alles Wichtige von der erst
 en Idee bis zur finalen Aufnahme. Wir beginnen mit wertvollen Tipps und Tr
 icks zur Vorbereitung Ihres Projekts\, damit Sie von Anfang an gut gerüst
 et sind. Anschließend erhalten Sie eine umfassende Einführung in die gru
 ndlegenden Funktionen von GarageBand\, von der Aufnahme bis zum Schnitt.\n
 \nEgal\, ob Sie bereits Erfahrung haben oder neu in der Welt der Podcasts 
 sind – dieser Workshop bietet Ihnen die Werkzeuge und das Wissen\, um sc
 hnell und einfach kreative Podcast-Projekte umzusetzen.\n\nWICHTIGE INFORM
 ATIONEN ZUR TEILNAHME:\n\n 	Bitte bringen Sie ein iPad mit der App GarageB
 and für die Arbeitsphase mit. Wir können nur begrenzt Geräte zur Verfü
 gung stellen.\n 	Gerne können Sie konkrete Ideen sowie Unterrichtsmateria
 l wie Lehrwerke\, Lektüren\, Übungsbücher\, etc. mitbringen.\n\nDozent:
  Fabian Jungblut (KONTAKT)
CATEGORIES:Workshop
LOCATION:Medienzentrum Trier\, Hawstrasse 2a\, Trier\, 54290\, Deutschland
X-APPLE-STRUCTURED-LOCATION;VALUE=URI;X-ADDRESS=Hawstrasse 2a\, Trier\, 542
 90\, Deutschland;X-APPLE-RADIUS=100;X-TITLE=Medienzentrum Trier:geo:0,0
END:VEVENT
BEGIN:VTIMEZONE
TZID:Europe/Berlin
X-LIC-LOCATION:Europe/Berlin
BEGIN:DAYLIGHT
DTSTART:20250330T030000
TZOFFSETFROM:+0100
TZOFFSETTO:+0200
TZNAME:CEST
END:DAYLIGHT
END:VTIMEZONE
END:VCALENDAR